BEGIN:VCALENDAR
VERSION:2.0
PRODID:-//Kilcoo Camp - ECPv6.15.20//NONSGML v1.0//EN
CALSCALE:GREGORIAN
METHOD:PUBLISH
X-ORIGINAL-URL:https://kilcoo.com
X-WR-CALDESC:Events for Kilcoo Camp
REFRESH-INTERVAL;VALUE=DURATION:PT1H
X-Robots-Tag:noindex
X-PUBLISHED-TTL:PT1H
BEGIN:VTIMEZONE
TZID:UTC
BEGIN:STANDARD
TZOFFSETFROM:+0000
TZOFFSETTO:+0000
TZNAME:UTC
DTSTART:20240101T000000
END:STANDARD
END:VTIMEZONE
BEGIN:VEVENT
DTSTART;TZID=UTC:20250810T120000
DTEND;TZID=UTC:20250810T140000
DTSTAMP:20260421T171246
CREATED:20240912T165916Z
LAST-MODIFIED:20250618T180153Z
UID:4233-1754827200-1754834400@kilcoo.com
SUMMARY:August Two-Week Session A Closes
DESCRIPTION:Departure Day for August Two-Week Session A campers. \nCampers can be picked up from Kilcoo between 9:00am-11:00am.  As this is also Visitor’s Day\, parents picking up their Two-Weekers are welcome to stay and enjoy the day.  The Visitor’s Day program ends promptly at 3:00pm \nThere is no return bus to the city for this session.
URL:https://kilcoo.com/event/august-two-week-session-i/
LOCATION:Kilcoo Camp\, 10735 ON-35\, Minden\, Ontario\, K0M 2K0\, Canada
CATEGORIES:Camp Sessions
END:VEVENT
BEGIN:VEVENT
DTSTART;TZID=UTC:20250810T130000
DTEND;TZID=UTC:20250810T180000
DTSTAMP:20260421T171246
CREATED:20240912T170313Z
LAST-MODIFIED:20250616T191753Z
UID:4241-1754830800-1754848800@kilcoo.com
SUMMARY:Visitor's Day (For Families of One-Month Campers)
DESCRIPTION:The program commences at 10:45am with a Chapel Service. Lunch is served to all guests and campers at approximately 12:30pm. We ask parents to depart by 3:00pm. \nFull program details will be sent out closer to the date. \nParents picking up their Two-Weekers are welcome to stay and enjoy Visitor’s Day.
URL:https://kilcoo.com/event/visitors-day-for-families-of-one-month-campers-2/
LOCATION:Kilcoo Camp\, 10735 ON-35\, Minden\, Ontario\, K0M 2K0\, Canada
CATEGORIES:Visitor's Day
END:VEVENT
BEGIN:VEVENT
DTSTART;TZID=UTC:20250811T133000
DTEND;TZID=UTC:20250811T153000
DTSTAMP:20260421T171246
CREATED:20240912T165957Z
LAST-MODIFIED:20250618T180120Z
UID:4236-1754919000-1754926200@kilcoo.com
SUMMARY:August Two-Week Session B Opens
DESCRIPTION:Arrival Day for August Two-Week Session B campers. \nCampers can be dropped off by car at Kilcoo between 10:30am-12:30pm. \nThere is no bus to camp for this session.
URL:https://kilcoo.com/event/august-two-week-session-ii/
LOCATION:Kilcoo Camp\, 10735 ON-35\, Minden\, Ontario\, K0M 2K0\, Canada
CATEGORIES:Camp Sessions
END:VEVENT
BEGIN:VEVENT
DTSTART;TZID=UTC:20250824T090000
DTEND;TZID=UTC:20250824T123000
DTSTAMP:20260421T171246
CREATED:20240912T170420Z
LAST-MODIFIED:20250618T180050Z
UID:4243-1756026000-1756038600@kilcoo.com
SUMMARY:August Sessions Close
DESCRIPTION:Departure Day for August One Month & August Two-Week Session B \nBuses will arrive at Sterling Hall School at approximately 12:30pm \nCampers can be picked up by car at Kilcoo between 9:00am-11:00am.
URL:https://kilcoo.com/event/closing-of-the-august-sessions/
LOCATION:Sterling Hall School\, 99 Cartwright Ave\, Toronto\, Ontario\, M6A 1V4\, Canada
CATEGORIES:Camp Sessions
END:VEVENT
END:VCALENDAR