BEGIN:VCALENDAR
VERSION:2.0
PRODID:-//Kilcoo Camp - ECPv6.15.20//NONSGML v1.0//EN
CALSCALE:GREGORIAN
METHOD:PUBLISH
X-WR-CALNAME:Kilcoo Camp
X-ORIGINAL-URL:https://kilcoo.com
X-WR-CALDESC:Events for Kilcoo Camp
REFRESH-INTERVAL;VALUE=DURATION:PT1H
X-Robots-Tag:noindex
X-PUBLISHED-TTL:PT1H
BEGIN:VTIMEZONE
TZID:UTC
BEGIN:STANDARD
TZOFFSETFROM:+0000
TZOFFSETTO:+0000
TZNAME:UTC
DTSTART:20250101T000000
END:STANDARD
END:VTIMEZONE
BEGIN:VEVENT
DTSTART;TZID=UTC:20260129T190000
DTEND;TZID=UTC:20260129T200000
DTSTAMP:20260422T022650
CREATED:20260129T221645Z
LAST-MODIFIED:20260129T221645Z
UID:4668-1769713200-1769716800@kilcoo.com
SUMMARY:Prospective Camper Info Session
DESCRIPTION:Interested in joining us at Kilcoo this summer?  Join us at one of our upcoming Prospective Camper Information Sessions! \nMeet members of our Senior Leadership Team\, learn more about everything Kilcoo has to offer\, and ask your burning questions. \nCome to the North Toronto Memorial Community Centre from 7:00pm-8:00pm on Thursday\, January 29\, 2026 – or Wednesday\, February 11 – or Monday\, March 2.
URL:https://kilcoo.com/event/prospective-camper-info-session/
LOCATION:North Toronto Memorial Community Centre\, 200 Eglinton Avenue West\, Toronto\, Ontario\, Canada
CATEGORIES:Special Events
ATTACH;FMTTYPE=image/png:https://kilcoo.com/wp-content/uploads/2026/01/Info-Sessions-e1769724956371.png
END:VEVENT
BEGIN:VEVENT
DTSTART;TZID=UTC:20260211T190000
DTEND;TZID=UTC:20260211T200000
DTSTAMP:20260422T022650
CREATED:20260129T221805Z
LAST-MODIFIED:20260129T221805Z
UID:4673-1770836400-1770840000@kilcoo.com
SUMMARY:Prospective Camper Info Session
DESCRIPTION:Interested in joining us at Kilcoo this summer?  Join us at one of our upcoming Prospective Camper Information Sessions! \nMeet members of our Senior Leadership Team\, learn more about everything Kilcoo has to offer\, and ask your burning questions. \nCome to the North Toronto Memorial Community Centre from 7:00pm-8:00pm on Wednesday\, February 11 or Monday\, March 2.
URL:https://kilcoo.com/event/prospective-camper-info-session-2/
LOCATION:North Toronto Memorial Community Centre\, 200 Eglinton Avenue West\, Toronto\, Ontario\, Canada
CATEGORIES:Special Events
ATTACH;FMTTYPE=image/png:https://kilcoo.com/wp-content/uploads/2026/01/Info-Sessions-e1769724956371.png
END:VEVENT
BEGIN:VEVENT
DTSTART;TZID=UTC:20260302T190000
DTEND;TZID=UTC:20260302T200000
DTSTAMP:20260422T022650
CREATED:20260129T221936Z
LAST-MODIFIED:20260129T221936Z
UID:4675-1772478000-1772481600@kilcoo.com
SUMMARY:Prospective Camper Info Session
DESCRIPTION:Interested in joining us at Kilcoo this summer?  Join us at one of our upcoming Prospective Camper Information Sessions! \nMeet members of our Senior Leadership Team\, learn more about everything Kilcoo has to offer\, and ask your burning questions. \nCome to the North Toronto Memorial Community Centre from 7:00pm-8:00pm on Monday\, March 2\, 2026.
URL:https://kilcoo.com/event/prospective-camper-info-session-3/
LOCATION:North Toronto Memorial Community Centre\, 200 Eglinton Avenue West\, Toronto\, Ontario\, Canada
CATEGORIES:Special Events
ATTACH;FMTTYPE=image/png:https://kilcoo.com/wp-content/uploads/2026/01/Info-Sessions-e1769724956371.png
END:VEVENT
BEGIN:VEVENT
DTSTART;TZID=UTC:20260408T190000
DTEND;TZID=UTC:20260408T200000
DTSTAMP:20260422T022650
CREATED:20260211T222904Z
LAST-MODIFIED:20260211T222904Z
UID:4690-1775674800-1775678400@kilcoo.com
SUMMARY:New & Prospective Camper Night
DESCRIPTION:Will 2026 be your first summer at Kilcoo? Or do you have someone you know might want to join us at Kilcoo this summer? \nPlease join us at our New & Prospective Camper Night on Wednesday\, April 8\, 2026 at Sterling Hall School. \nYou’ll meet members of Kilcoo’s Senior Leadership Team\, see awesome pictures from previous summers\, and learn a bit more about life at camp and what you can expect.  The presentation will begin promptly at 7:00pm followed by an opportunity to ask any questions you might have\, so don’t miss out if you’re curious about anything! \n 
URL:https://kilcoo.com/event/new-prospective-camper-night-2/
LOCATION:Sterling Hall School\, 99 Cartwright Ave\, Toronto\, Ontario\, M6A 1V4\, Canada
CATEGORIES:Info Session,Special Events
ATTACH;FMTTYPE=image/jpeg:https://kilcoo.com/wp-content/uploads/2025/11/Kilcoo-Camp-2025__005-scaled-e1770848820240.jpg
END:VEVENT
END:VCALENDAR