BEGIN:VCALENDAR
VERSION:2.0
PRODID:-//Kilcoo Camp - ECPv6.15.20//NONSGML v1.0//EN
CALSCALE:GREGORIAN
METHOD:PUBLISH
X-WR-CALNAME:Kilcoo Camp
X-ORIGINAL-URL:https://kilcoo.com
X-WR-CALDESC:Events for Kilcoo Camp
REFRESH-INTERVAL;VALUE=DURATION:PT1H
X-Robots-Tag:noindex
X-PUBLISHED-TTL:PT1H
BEGIN:VTIMEZONE
TZID:UTC
BEGIN:STANDARD
TZOFFSETFROM:+0000
TZOFFSETTO:+0000
TZNAME:UTC
DTSTART:20240101T000000
END:STANDARD
END:VTIMEZONE
BEGIN:VEVENT
DTSTART;TZID=UTC:20250713T130000
DTEND;TZID=UTC:20250713T180000
DTSTAMP:20260421T170929
CREATED:20240912T165432Z
LAST-MODIFIED:20250616T191942Z
UID:4225-1752411600-1752429600@kilcoo.com
SUMMARY:Visitor's Day (For Families of One-Month Campers)
DESCRIPTION:The program commences at 10:45am with a Chapel Service. Lunch is served to all guests and campers at approximately 12:30pm. We ask parents to depart by 3:00pm. \nFull program details will be sent out closer to the date. \n**Please note: All Two-Week campers will be on their canoe trips and not available to visit.
URL:https://kilcoo.com/event/visitors-day-for-families-of-one-month-campers/
LOCATION:Kilcoo Camp\, 10735 ON-35\, Minden\, Ontario\, K0M 2K0\, Canada
CATEGORIES:Visitor's Day
END:VEVENT
END:VCALENDAR