BEGIN:VCALENDAR
VERSION:2.0
PRODID:-//Kilcoo Camp - ECPv6.15.20//NONSGML v1.0//EN
CALSCALE:GREGORIAN
METHOD:PUBLISH
X-ORIGINAL-URL:https://kilcoo.com
X-WR-CALDESC:Events for Kilcoo Camp
REFRESH-INTERVAL;VALUE=DURATION:PT1H
X-Robots-Tag:noindex
X-PUBLISHED-TTL:PT1H
BEGIN:VTIMEZONE
TZID:UTC
BEGIN:STANDARD
TZOFFSETFROM:+0000
TZOFFSETTO:+0000
TZNAME:UTC
DTSTART:20240101T000000
END:STANDARD
END:VTIMEZONE
BEGIN:VEVENT
DTSTART;TZID=UTC:20250711T103000
DTEND;TZID=UTC:20250711T123000
DTSTAMP:20260420T122632
CREATED:20240912T164037Z
LAST-MODIFIED:20250618T180259Z
UID:4218-1752229800-1752237000@kilcoo.com
SUMMARY:July Two-Week Session B Opens
DESCRIPTION:Arrival Day for July Two-Week Session B campers. \nCampers can be dropped off by car at Kilcoo between 10:30am-12:30pm. \nThere is no bus to camp for this session.
URL:https://kilcoo.com/event/july-two-week-session-ii/
LOCATION:Kilcoo Camp\, 10735 ON-35\, Minden\, Ontario\, K0M 2K0\, Canada
CATEGORIES:Camp Sessions
END:VEVENT
END:VCALENDAR