BEGIN:VCALENDAR
VERSION:2.0
PRODID:-//Kilcoo Camp - ECPv6.15.20//NONSGML v1.0//EN
CALSCALE:GREGORIAN
METHOD:PUBLISH
X-WR-CALNAME:Kilcoo Camp
X-ORIGINAL-URL:https://kilcoo.com
X-WR-CALDESC:Events for Kilcoo Camp
REFRESH-INTERVAL;VALUE=DURATION:PT1H
X-Robots-Tag:noindex
X-PUBLISHED-TTL:PT1H
BEGIN:VTIMEZONE
TZID:UTC
BEGIN:STANDARD
TZOFFSETFROM:+0000
TZOFFSETTO:+0000
TZNAME:UTC
DTSTART:20240101T000000
END:STANDARD
END:VTIMEZONE
BEGIN:VEVENT
DTSTART;TZID=UTC:20250710T090000
DTEND;TZID=UTC:20250710T110000
DTSTAMP:20260421T170928
CREATED:20250616T193803Z
LAST-MODIFIED:20250618T180325Z
UID:4602-1752138000-1752145200@kilcoo.com
SUMMARY:July Two-Week Session A Closes
DESCRIPTION:Departure Day for July Two-Week Session A campers. \nCampers can be picked up from Kilcoo between 9:00am-11:00am. \nThere is no return bus to the city for this session.
URL:https://kilcoo.com/event/july-two-week-session-i-closes/
LOCATION:Kilcoo Camp\, 10735 ON-35\, Minden\, Ontario\, K0M 2K0\, Canada
CATEGORIES:Camp Sessions
END:VEVENT
END:VCALENDAR