BEGIN:VCALENDAR
VERSION:2.0
PRODID:-//Kilcoo Camp - ECPv6.15.20//NONSGML v1.0//EN
CALSCALE:GREGORIAN
METHOD:PUBLISH
X-WR-CALNAME:Kilcoo Camp
X-ORIGINAL-URL:https://kilcoo.com
X-WR-CALDESC:Events for Kilcoo Camp
REFRESH-INTERVAL;VALUE=DURATION:PT1H
X-Robots-Tag:noindex
X-PUBLISHED-TTL:PT1H
BEGIN:VTIMEZONE
TZID:UTC
BEGIN:STANDARD
TZOFFSETFROM:+0000
TZOFFSETTO:+0000
TZNAME:UTC
DTSTART:20240101T000000
END:STANDARD
END:VTIMEZONE
BEGIN:VEVENT
DTSTART;TZID=UTC:20250621T090000
DTEND;TZID=UTC:20250621T120000
DTSTAMP:20260421T153953
CREATED:20240912T163605Z
LAST-MODIFIED:20250616T191329Z
UID:4211-1750496400-1750507200@kilcoo.com
SUMMARY:Commencement of Pre-Camp for Staff and LITs
DESCRIPTION:Staff and LITs are expected to be on site at Kilcoo by 12:00pm. \nThere is a special LIT Bus departing from Sterling Hall School promptly at 9:30am.  Please do not arrive later than 9:15am or you may miss the bus!
URL:https://kilcoo.com/event/commencement-of-pre-camp-for-staff-and-lits/
LOCATION:Kilcoo Camp\, 10735 ON-35\, Minden\, Ontario\, K0M 2K0\, Canada
CATEGORIES:Staff Camp Dates
END:VEVENT
END:VCALENDAR